BEGIN:VCALENDAR
VERSION:2.0
PRODID:-//Zveza slovenskih slavističnih društev - ECPv6.9.0//NONSGML v1.0//EN
CALSCALE:GREGORIAN
METHOD:PUBLISH
X-WR-CALNAME:Zveza slovenskih slavističnih društev
X-ORIGINAL-URL:https://zdsds.si
X-WR-CALDESC:Dogodki za Zveza slovenskih slavističnih društev
REFRESH-INTERVAL;VALUE=DURATION:PT1H
X-Robots-Tag:noindex
X-PUBLISHED-TTL:PT1H
BEGIN:VTIMEZONE
TZID:Europe/Ljubljana
BEGIN:DAYLIGHT
TZOFFSETFROM:+0100
TZOFFSETTO:+0200
TZNAME:CEST
DTSTART:20240331T010000
END:DAYLIGHT
BEGIN:STANDARD
TZOFFSETFROM:+0200
TZOFFSETTO:+0100
TZNAME:CET
DTSTART:20241027T010000
END:STANDARD
END:VTIMEZONE
BEGIN:VEVENT
DTSTART;TZID=Europe/Ljubljana:20241014T080000
DTEND;TZID=Europe/Ljubljana:20241016T170000
DTSTAMP:20260423T004611
CREATED:20241005T111923Z
LAST-MODIFIED:20241005T112310Z
UID:7804-1728892800-1729098000@zdsds.si
SUMMARY:Mednarodni dan slovarjev 2024
DESCRIPTION:Čeprav je slovarska prihodnost že nekaj desetletij predvsem digitalna\, pa je objava slovarskega portala Fran pred desetimi leti dodobra pretresla slovensko slovaropisno skupnost in globoko zasidrala nekatere smernice pri izdelavi sodobnih slovarjev. Šesto obeležje mednarodnega dneva slovarjev v soorganizaciji Sekcije za leksiko ZdSdS in ZRC SAZU zato posvečamo temi slovarjev v digitalnem okolju\, ki jo bomo obravnavali 14. oktobra 2024 na mednarodnem znanstvenem simpoziju. Na mednarodni dan slovarjev\, 16. oktobra 2024\, pripravljamo posebno prireditev ob 10. obletnici portala Fran\, slavnostno podelitev štipendij Ustanove patra Stanislava Škrabca za študijsko leto 2024/25 in okroglo mizo s slovarskimi uporabniki z naslovom Slovar – krmar\, čuvar\, šušmar ali … car? Na ta dan bo mogoč tudi ogled prostorov Inštituta za slovenski jezik Frana Ramovša ZRC SAZU\, pred Knjigarno Azil bo stojnica z jezikoslovnimi knjigami. Založba ZRC od sredine septembra do 16. oktobra 2024 nudi slovarje in jezikoslovne knjige s posebnim popustom. \nVljudno vabljene in vabljeni\, da praznujete z nami! \nPovezava na Zoom: \nPovezava: https://us02web.zoom.us/j/81679556615?pwd=UAdvQewMjaoFIaYtVGRiandvkEtFjK.1 \nMeeting ID: 816 7955 6615 \nPasscode: 208924
URL:https://zdsds.si/event/mednarodni-dan-slovarjev-2024/
LOCATION:Zoom
CATEGORIES:Sekcija za leksiko
ATTACH;FMTTYPE=image/png:https://zdsds.si/wp-content/uploads/2023/11/Profile_pic_1-e1699625956620.png
END:VEVENT
BEGIN:VEVENT
DTSTART;VALUE=DATE:20241008
DTEND;VALUE=DATE:20241009
DTSTAMP:20260423T004611
CREATED:20240812T111453Z
LAST-MODIFIED:20240812T111522Z
UID:7344-1728345600-1728431999@zdsds.si
SUMMARY:Izobraževanje za (so)mentorje tekmovalnih skupin (Slovenščina ima dolg jezik: Književnost na filmu 12)
DESCRIPTION:
URL:https://zdsds.si/event/izobrazevanje-za-somentorje-tekmovalnih-skupin-slovenscina-ima-dolg-jezik-knjizevnost-na-filmu-12/
LOCATION:M Hotel\, Derčeva 4\, Ljubljana\, 1000\, Slovenija
CATEGORIES:Slovenščina ima dolg jezik
ATTACH;FMTTYPE=image/jpeg:https://zdsds.si/wp-content/uploads/2024/04/SIDJ-610x343-2-e1718468712665.jpg
END:VEVENT
BEGIN:VEVENT
DTSTART;VALUE=DATE:20240926
DTEND;VALUE=DATE:20240929
DTSTAMP:20260423T004611
CREATED:20240622T072419Z
LAST-MODIFIED:20240812T110522Z
UID:6646-1727308800-1727567999@zdsds.si
SUMMARY:Slovenski slavistični kongres 2024
DESCRIPTION:
URL:https://zdsds.si/event/slovenski-slavisticni-kongres-2024/
LOCATION:I. gimnazija v Celju\, Kajuhova 2\, Celje
CATEGORIES:Slovenski slavistični kongres
ATTACH;FMTTYPE=image/jpeg:https://zdsds.si/wp-content/uploads/2024/06/celje_jost_gantar.jpg
END:VEVENT
BEGIN:VEVENT
DTSTART;VALUE=DATE:20240920
DTEND;VALUE=DATE:20240921
DTSTAMP:20260423T004611
CREATED:20240622T072844Z
LAST-MODIFIED:20240720T165045Z
UID:6652-1726790400-1726876799@zdsds.si
SUMMARY:Rok za prijavo tekmovalcev na poskusno tekmovanje v znanju slovenskega jezika za Vodnikovo priznanje
DESCRIPTION:Šolski koordinatorji tekmovalce prijavite z izpolnitvijo obrazca\, dostopnega na tejle povezavi: https://zdsds.si/tekmovanje-v-slovenskem-jeziku/prijava-tekmovalcev/.
URL:https://zdsds.si/event/rok-za-prijavo-tekmovalcev-na-poskusno-tekmovanje-v-znanju-slovenskega-jezika-za-vodnikovo-priznanje/
ATTACH;FMTTYPE=image/png:https://zdsds.si/wp-content/uploads/2024/06/logo_vodnik.png
END:VEVENT
BEGIN:VEVENT
DTSTART;TZID=Europe/Ljubljana:20240912T160000
DTEND;TZID=Europe/Ljubljana:20240912T213000
DTSTAMP:20260423T004611
CREATED:20240826T210601Z
LAST-MODIFIED:20240826T210601Z
UID:7467-1726156800-1726176600@zdsds.si
SUMMARY:Strokovno izobraževanje Kako lahko pri pouku slovenščine obravnavamo dela\, nominirana za večernico 2024
DESCRIPTION:
URL:https://zdsds.si/event/strokovno-izobrazevanje-kako-lahko-pri-pouku-slovenscine-obravnavamo-dela-nominirana-za-vecernico-2024/
LOCATION:Murska Sobota
CATEGORIES:Prlekije in Porabja,Slavistično društvo Maribor
ATTACH;FMTTYPE=image/webp:https://zdsds.si/wp-content/uploads/2024/08/oko_besede_2024_plakat.png.webp
ORGANIZER;CN="Slavisti%C4%8Dno dru%C5%A1tvo Maribor":MAILTO:slavisticnodrustvomaribor@gmail.com
END:VEVENT
BEGIN:VEVENT
DTSTART;VALUE=DATE:20240820
DTEND;VALUE=DATE:20240916
DTSTAMP:20260423T004611
CREATED:20240812T110702Z
LAST-MODIFIED:20240812T112800Z
UID:7339-1724112000-1726444799@zdsds.si
SUMMARY:Prijave na Slovenski slavistični kongres 2024
DESCRIPTION:
URL:https://zdsds.si/event/prijave-na-slovenski-slavisticni-kongres-2024/
CATEGORIES:Slovenski slavistični kongres
ATTACH;FMTTYPE=image/jpeg:https://zdsds.si/wp-content/uploads/2024/06/celje_jost_gantar.jpg
END:VEVENT
BEGIN:VEVENT
DTSTART;VALUE=DATE:20240705
DTEND;VALUE=DATE:20240706
DTSTAMP:20260423T004611
CREATED:20240622T072758Z
LAST-MODIFIED:20240622T072758Z
UID:6650-1720137600-1720223999@zdsds.si
SUMMARY:Rok za prijavo šol na poskusno tekmovanje v znanju slovenskega jezika za Vodnikovo priznanje
DESCRIPTION:
URL:https://zdsds.si/event/rok-za-prijavo-sol-na-poskusno-tekmovanje-v-znanju-slovenskega-jezika-za-vodnikovo-priznanje/
END:VEVENT
BEGIN:VEVENT
DTSTART;VALUE=DATE:20240620
DTEND;VALUE=DATE:20241001
DTSTAMP:20260423T004611
CREATED:20240812T111129Z
LAST-MODIFIED:20240812T111129Z
UID:7341-1718841600-1727740799@zdsds.si
SUMMARY:Prijava (so)mentorjev na tekmovanje Slovenščina ima dolg jezik: Književnost na filmu 12
DESCRIPTION:
URL:https://zdsds.si/event/prijava-somentorjev-na-tekmovanje-slovenscina-ima-dolg-jezik-knjizevnost-na-filmu-12/
ATTACH;FMTTYPE=image/jpeg:https://zdsds.si/wp-content/uploads/2024/04/SIDJ-610x343-2-e1718468712665.jpg
END:VEVENT
END:VCALENDAR